BEGIN:VCALENDAR
VERSION:2.0
PRODID:-//www.dsamidlands.org//NONSGML kigkonsult.se iCalcreator 2.30.10//
CALSCALE:GREGORIAN
METHOD:PUBLISH
UID:2799e4b9-e144-40f0-9c76-b96c53640013
X-WR-CALDESC:Join us for an exciting afternoon of volleyball as we cheer on
  the Omaha Supernovas on Tuesday\, February 20th\, at 3:00 PM at the CHI H
 ealth Center! This is a fantastic opportunity for our DSA community to com
 e together\, enjoy a thrilling match\, and celebrate inclusion and teamwor
 k.\n\nTickets & Details:\nCost: $10 per ticket\nLocation: CHI Health Cente
 r Omaha\nTime: 3:00 PM\nWho: DSA members and Family
X-WR-RELCALID:b3d608c5f5145a52c1675b4b6e077c3d
X-WR-TIMEZONE:America/Chicago
BEGIN:VTIMEZONE
TZID:America/Chicago
BEGIN:STANDARD
TZNAME:CST
DTSTART:20241103T020000
TZOFFSETFROM:-0500
TZOFFSETTO:-0600
RDATE:20251102T020000
END:STANDARD
BEGIN:DAYLIGHT
TZNAME:CDT
DTSTART:20250309T020000
TZOFFSETFROM:-0600
TZOFFSETTO:-0500
RDATE:20260308T020000
END:DAYLIGHT
END:VTIMEZONE
BEGIN:VEVENT
UID:6bdb32ca-2688-4b27-9985-5d7376d1a086
DTSTAMP:20260422T072738Z
DESCRIPTION:Join us for an exciting afternoon of volleyball as we cheer on 
 the Omaha Supernovas on Tuesday\, February 20th\, at 3:00 PM at the CHI He
 alth Center! This is a fantastic opportunity for our DSA community to come
  together\, enjoy a thrilling match\, and celebrate inclusion and teamwork
 .\n\nTickets & Details:\nCost: $10 per ticket\nLocation: CHI Health Center
  Omaha\nTime: 3:00 PM\nWho: DSA members and Family
DTSTART;TZID=America/Chicago:20250330T150000
DTEND;TZID=America/Chicago:20250330T170000
LOCATION:https://secure.lglforms.com/form_engine/s/ZnsdREkwH0dZvpZ9jnT2vA?t
 =1739207085
SUMMARY:Omaha Supernovas Volleyball
END:VEVENT
END:VCALENDAR
