BEGIN:VCALENDAR
VERSION:2.0
PRODID:-//www.dsamidlands.org//NONSGML kigkonsult.se iCalcreator 2.30.10//
CALSCALE:GREGORIAN
METHOD:PUBLISH
UID:f033f665-2711-4ff8-8ab7-596b1240d9ad
X-WR-CALDESC:\nPresentadora: Ada Luna PTI Nebraska\nAda compartirá informac
 ión\, requisitos de elegibilidad y beneficios de los waivers en Nebraska y
  ofrecerá a los miembros de DSA la oportunidad de hacer preguntas. \nPor f
 avor\, regístrese para una de las fechas de las sesiones: \n27 de marzo: 6
 :30-8:00 pm.\n24 de abril de 6:30 a 8:00 pm.\nAda también estará disponibl
 e para ayudar con la instrucción de solicitud guiada (si así lo desea).\n
X-WR-RELCALID:029dac727a45416a2f585ed07d40d89b
X-WR-TIMEZONE:America/Chicago
BEGIN:VTIMEZONE
TZID:America/Chicago
BEGIN:STANDARD
TZNAME:CST
DTSTART:20241103T020000
TZOFFSETFROM:-0500
TZOFFSETTO:-0600
RDATE:20251102T020000
END:STANDARD
BEGIN:DAYLIGHT
TZNAME:CDT
DTSTART:20250309T020000
TZOFFSETFROM:-0600
TZOFFSETTO:-0500
RDATE:20260308T020000
END:DAYLIGHT
END:VTIMEZONE
BEGIN:VEVENT
UID:d218664c-a631-47de-ae6f-4b8c7387bd90
DTSTAMP:20260422T072731Z
DESCRIPTION:\nPresentadora: Ada Luna PTI Nebraska\nAda compartirá informaci
 ón\, requisitos de elegibilidad y beneficios de los waivers en Nebraska y 
 ofrecerá a los miembros de DSA la oportunidad de hacer preguntas. \nPor fa
 vor\, regístrese para una de las fechas de las sesiones: \n27 de marzo: 6:
 30-8:00 pm.\n24 de abril de 6:30 a 8:00 pm.\nAda también estará disponible
  para ayudar con la instrucción de solicitud guiada (si así lo desea).\n
DTSTART;TZID=America/Chicago:20250327T183000
DTEND;TZID=America/Chicago:20250327T200000
LOCATION:https://secure.lglforms.com/form_engine/s/j7sqLCn9wHBMIJoYpWQzKQ
SUMMARY:Escuela Para Familias Marzo 2025- PTI Apoyo con los waivers
END:VEVENT
END:VCALENDAR
