BEGIN:VCALENDAR
VERSION:2.0
PRODID:-//www.dsamidlands.org//NONSGML kigkonsult.se iCalcreator 2.30.10//
CALSCALE:GREGORIAN
METHOD:PUBLISH
UID:b0b838f4-94f8-48ec-97a3-4b2a35eaf601
X-WR-CALDESC:Join other families with little ones ages birth through 3 year
 s of age for some playtime fun! In March\, we will meet at the DSA office.
  \n10824 Old Mill Rd Suite 8 Omaha\, NE 68154
X-WR-RELCALID:3178bc3a71cb0abaa14b46cf4fb43565
X-WR-TIMEZONE:America/Chicago
BEGIN:VTIMEZONE
TZID:America/Chicago
BEGIN:STANDARD
TZNAME:CST
DTSTART:20241103T020000
TZOFFSETFROM:-0500
TZOFFSETTO:-0600
RDATE:20251102T020000
END:STANDARD
BEGIN:DAYLIGHT
TZNAME:CDT
DTSTART:20250309T020000
TZOFFSETFROM:-0600
TZOFFSETTO:-0500
RDATE:20260308T020000
END:DAYLIGHT
END:VTIMEZONE
BEGIN:VEVENT
UID:bd635b0f-82f6-4a92-8713-055cbb403bcb
DTSTAMP:20260422T072017Z
DESCRIPTION:Join other families with little ones ages birth through 3 years
  of age for some playtime fun! In March\, we will meet at the DSA office. 
 \n10824 Old Mill Rd Suite 8 Omaha\, NE 68154
DTSTART;TZID=America/Chicago:20250326T100000
DTEND;TZID=America/Chicago:20250326T110000
LOCATION:https://secure.lglforms.com/form_engine/s/km7s-6mhuYHkNAyL_ji3cg
SUMMARY:Little Ones Play Group
END:VEVENT
END:VCALENDAR
