BEGIN:VCALENDAR
VERSION:2.0
PRODID:-//www.dsamidlands.org//NONSGML kigkonsult.se iCalcreator 2.30.10//
CALSCALE:GREGORIAN
METHOD:PUBLISH
UID:1b74a4c0-15a5-42b1-9096-63f9e588b374
X-WR-CALDESC:Join us at the DSA for our annual GRANDS Egg Stuffing Event! W
 e will stuff the eggs with candy for the yearly DSA Family Egg Hunt during
  this event.
X-WR-RELCALID:c7fef1f5ac48fcc0738539161df23f52
X-WR-TIMEZONE:America/Chicago
BEGIN:VTIMEZONE
TZID:America/Chicago
BEGIN:STANDARD
TZNAME:CST
DTSTART:20241103T020000
TZOFFSETFROM:-0500
TZOFFSETTO:-0600
RDATE:20251102T020000
END:STANDARD
BEGIN:DAYLIGHT
TZNAME:CDT
DTSTART:20250309T020000
TZOFFSETFROM:-0600
TZOFFSETTO:-0500
RDATE:20260308T020000
END:DAYLIGHT
END:VTIMEZONE
BEGIN:VEVENT
UID:4b29c6a7-94e7-42af-9420-bcf8a397d11e
DTSTAMP:20260422T071719Z
DESCRIPTION:Join us at the DSA for our annual GRANDS Egg Stuffing Event! We
  will stuff the eggs with candy for the yearly DSA Family Egg Hunt during 
 this event.
DTSTART;TZID=America/Chicago:20250325T100000
DTEND;TZID=America/Chicago:20250325T130000
LOCATION:10824 Old Mill Rd\, Suite 8\, Omaha\, NE 68154 US
SUMMARY:GRANDS Egg Stuffing
END:VEVENT
END:VCALENDAR
