BEGIN:VCALENDAR
VERSION:2.0
PRODID:-//www.dsamidlands.org//NONSGML kigkonsult.se iCalcreator 2.30.10//
CALSCALE:GREGORIAN
METHOD:PUBLISH
UID:4a72de04-9bed-456e-b673-e5c4ef7bb208
X-WR-CALDESC:Join Music Therapist\, Emily R. Wadhams MT-BC at the DSA offic
 e for a 60-minute drumming experience for adults with Down syndrome. This 
 8-week session will meet Mondays from 2:30-3:30 and costs $160.00.
X-WR-RELCALID:517ad51ffd065b5f9fcf4343f8257983
X-WR-TIMEZONE:America/Chicago
BEGIN:VTIMEZONE
TZID:America/Chicago
BEGIN:STANDARD
TZNAME:CST
DTSTART:20241103T020000
TZOFFSETFROM:-0500
TZOFFSETTO:-0600
RDATE:20251102T020000
END:STANDARD
BEGIN:DAYLIGHT
TZNAME:CDT
DTSTART:20250309T020000
TZOFFSETFROM:-0600
TZOFFSETTO:-0500
RDATE:20260308T020000
END:DAYLIGHT
END:VTIMEZONE
BEGIN:VEVENT
UID:2683609d-2ea1-4014-9dea-4940ebeef939
DTSTAMP:20260422T071823Z
DESCRIPTION:Join Music Therapist\, Emily R. Wadhams MT-BC at the DSA office
  for a 60-minute drumming experience for adults with Down syndrome. This 8
 -week session will meet Mondays from 2:30-3:30 and costs $160.00.
DTSTART;TZID=America/Chicago:20250324T143000
DTEND;TZID=America/Chicago:20250324T153000
LOCATION:https://secure.lglforms.com/form_engine/s/1QLs-0tt6mf-jdKlryyzTA
SUMMARY:Drumming for Wellness
END:VEVENT
END:VCALENDAR
