BEGIN:VCALENDAR
VERSION:2.0
PRODID:-//www.dsamidlands.org//NONSGML kigkonsult.se iCalcreator 2.30.10//
CALSCALE:GREGORIAN
METHOD:PUBLISH
UID:125b4ceb-efc7-40d2-a2b3-50423082cb09
X-WR-CALDESC:DSA members pay $70 per session/$140 for non-members. Sessions
  are 7 classes.
X-WR-RELCALID:6dc44b60d33fa472a6f72b0ecc3a7b68
X-WR-TIMEZONE:America/Chicago
BEGIN:VTIMEZONE
TZID:America/Chicago
BEGIN:STANDARD
TZNAME:CST
DTSTART:20241103T020000
TZOFFSETFROM:-0500
TZOFFSETTO:-0600
RDATE:20251102T020000
END:STANDARD
BEGIN:DAYLIGHT
TZNAME:CDT
DTSTART:20250309T020000
TZOFFSETFROM:-0600
TZOFFSETTO:-0500
RDATE:20260308T020000
END:DAYLIGHT
END:VTIMEZONE
BEGIN:VEVENT
UID:15b8cd09-7ff8-49c7-8e4c-47edd2d380bd
DTSTAMP:20260422T072131Z
DESCRIPTION:DSA members pay $70 per session/$140 for non-members. Sessions 
 are 7 classes.
DTSTART;TZID=America/Chicago:20250322T120000
DTEND;TZID=America/Chicago:20250322T130000
LOCATION:https://secure.lglforms.com/form_engine/s/_d7wD4dGeNIyPTpnZsb_iw
SUMMARY:Improv (Ages 12-18)
END:VEVENT
END:VCALENDAR
