BEGIN:VCALENDAR
VERSION:2.0
PRODID:-//www.dsamidlands.org//NONSGML kigkonsult.se iCalcreator 2.30.10//
CALSCALE:GREGORIAN
METHOD:PUBLISH
UID:45c1d4b0-2089-47a7-9f63-a07830d70c91
X-WR-CALDESC:
X-WR-RELCALID:c668667f319be86790cbd91dd5e116b4
X-WR-TIMEZONE:America/Chicago
BEGIN:VTIMEZONE
TZID:America/Chicago
BEGIN:STANDARD
TZNAME:CST
DTSTART:20241103T020000
TZOFFSETFROM:-0500
TZOFFSETTO:-0600
RDATE:20251102T020000
END:STANDARD
BEGIN:DAYLIGHT
TZNAME:CDT
DTSTART:20250309T020000
TZOFFSETFROM:-0600
TZOFFSETTO:-0500
RDATE:20260308T020000
END:DAYLIGHT
END:VTIMEZONE
BEGIN:VEVENT
UID:5a2e617f-dd10-452c-af07-5336424357e1
DTSTAMP:20260422T072016Z
DESCRIPTION:
DTSTART;TZID=America/Chicago:20250320T100000
DTEND;TZID=America/Chicago:20250320T160000
LOCATION:10824 Old Mill Road\, Suite 8\, Omaha\, AL 68154 US
SUMMARY:Rock Your Socks Pick Up
END:VEVENT
END:VCALENDAR
