BEGIN:VCALENDAR
VERSION:2.0
PRODID:-//www.dsamidlands.org//NONSGML kigkonsult.se iCalcreator 2.30.10//
CALSCALE:GREGORIAN
METHOD:PUBLISH
UID:b3f7c4e0-2625-42ac-8a8f-4e4dff0a2738
X-WR-CALDESC:
X-WR-RELCALID:5daf65690651f09d4a8b23cc1c8fc5be
X-WR-TIMEZONE:America/Chicago
BEGIN:VTIMEZONE
TZID:America/Chicago
BEGIN:STANDARD
TZNAME:CST
DTSTART:20241103T020000
TZOFFSETFROM:-0500
TZOFFSETTO:-0600
RDATE:20251102T020000
END:STANDARD
BEGIN:DAYLIGHT
TZNAME:CDT
DTSTART:20250309T020000
TZOFFSETFROM:-0600
TZOFFSETTO:-0500
RDATE:20260308T020000
END:DAYLIGHT
END:VTIMEZONE
BEGIN:VEVENT
UID:50fba997-7331-4a31-998c-9a340583585c
DTSTAMP:20260422T071711Z
DESCRIPTION:
DTSTART;TZID=America/Chicago:20250319T100000
DTEND;TZID=America/Chicago:20250319T160000
LOCATION:10824 Old Mill Road\, Suite 8\, Omaha\, AL 68154 US
SUMMARY:Rock Your Socks Pick Up
END:VEVENT
END:VCALENDAR
