BEGIN:VCALENDAR
VERSION:2.0
PRODID:-//www.dsamidlands.org//NONSGML kigkonsult.se iCalcreator 2.30.10//
CALSCALE:GREGORIAN
METHOD:PUBLISH
UID:9147dce0-7897-4fcb-b4f6-a534696d0aa4
X-WR-CALDESC:Kids Connect 6th-8th We Rock the Spectrum Gym
X-WR-RELCALID:eb8d28b29c3bdd62aab34d25c1943361
X-WR-TIMEZONE:America/Chicago
BEGIN:VTIMEZONE
TZID:America/Chicago
BEGIN:STANDARD
TZNAME:CST
DTSTART:20241103T020000
TZOFFSETFROM:-0500
TZOFFSETTO:-0600
RDATE:20251102T020000
END:STANDARD
BEGIN:DAYLIGHT
TZNAME:CDT
DTSTART:20250309T020000
TZOFFSETFROM:-0600
TZOFFSETTO:-0500
RDATE:20260308T020000
END:DAYLIGHT
END:VTIMEZONE
BEGIN:VEVENT
UID:8546a9ee-df36-49c5-bee2-09945c4b726b
DTSTAMP:20260422T072438Z
DESCRIPTION:Kids Connect 6th-8th We Rock the Spectrum Gym
DTSTART;TZID=America/Chicago:20250319T173000
DTEND;TZID=America/Chicago:20250319T190000
LOCATION:https://secure.lglforms.com/form_engine/s/kZsYetbfNI-hhGqKzEQGrw
SUMMARY:Kids Connect 6th - 8th Grade - Cancelled Due to Weather
END:VEVENT
END:VCALENDAR
