BEGIN:VCALENDAR
VERSION:2.0
PRODID:-//www.dsamidlands.org//NONSGML kigkonsult.se iCalcreator 2.30.10//
CALSCALE:GREGORIAN
METHOD:PUBLISH
UID:67c840d0-6136-462a-9c12-16b0964e27a1
X-WR-CALDESC:
X-WR-RELCALID:36954f3f921c2ca1dea957d98f88552e
X-WR-TIMEZONE:America/Chicago
BEGIN:VTIMEZONE
TZID:America/Chicago
BEGIN:STANDARD
TZNAME:CST
DTSTART:20241103T020000
TZOFFSETFROM:-0500
TZOFFSETTO:-0600
RDATE:20251102T020000
END:STANDARD
BEGIN:DAYLIGHT
TZNAME:CDT
DTSTART:20250309T020000
TZOFFSETFROM:-0600
TZOFFSETTO:-0500
RDATE:20260308T020000
END:DAYLIGHT
END:VTIMEZONE
BEGIN:VEVENT
UID:16b3bd4c-9a02-44e6-b330-6e5b6f4d6bde
DTSTAMP:20260422T072117Z
DESCRIPTION:
DTSTART;TZID=America/Chicago:20250319T050000
DTEND;TZID=America/Chicago:20250319T050001
LOCATION:
SUMMARY:DSA Office Closed - Winter Weather
END:VEVENT
END:VCALENDAR
