BEGIN:VCALENDAR
VERSION:2.0
PRODID:-//www.dsamidlands.org//NONSGML kigkonsult.se iCalcreator 2.30.10//
CALSCALE:GREGORIAN
METHOD:PUBLISH
UID:8fba95ad-0231-4281-88a3-63716717a6cd
X-WR-CALDESC:
X-WR-RELCALID:4b06f28d6ee217268efe28e0ee7f2749
X-WR-TIMEZONE:America/Chicago
BEGIN:VTIMEZONE
TZID:America/Chicago
BEGIN:STANDARD
TZNAME:CST
DTSTART:20241103T020000
TZOFFSETFROM:-0500
TZOFFSETTO:-0600
RDATE:20251102T020000
END:STANDARD
BEGIN:DAYLIGHT
TZNAME:CDT
DTSTART:20250309T020000
TZOFFSETFROM:-0600
TZOFFSETTO:-0500
RDATE:20260308T020000
END:DAYLIGHT
END:VTIMEZONE
BEGIN:VEVENT
UID:5c371aa5-ba03-4c2c-bf3e-0618bd7e6890
DTSTAMP:20260422T072008Z
DESCRIPTION:
DTSTART;TZID=America/Chicago:20250318T100000
DTEND;TZID=America/Chicago:20250318T160000
LOCATION:10824 Old Mill Road\, Suite 8\, Omaha\, AL 68154 US
SUMMARY:Rock Your Socks Pick Up
END:VEVENT
END:VCALENDAR
