BEGIN:VCALENDAR
VERSION:2.0
PRODID:-//www.dsamidlands.org//NONSGML kigkonsult.se iCalcreator 2.30.10//
CALSCALE:GREGORIAN
METHOD:PUBLISH
UID:a81b63d0-2521-4972-8f02-707ad7014545
X-WR-CALDESC:
X-WR-RELCALID:6241677b80ea9d465541f071e7b376ae
X-WR-TIMEZONE:America/Chicago
BEGIN:VTIMEZONE
TZID:America/Chicago
BEGIN:STANDARD
TZNAME:CST
DTSTART:20241103T020000
TZOFFSETFROM:-0500
TZOFFSETTO:-0600
RDATE:20251102T020000
END:STANDARD
BEGIN:DAYLIGHT
TZNAME:CDT
DTSTART:20250309T020000
TZOFFSETFROM:-0600
TZOFFSETTO:-0500
RDATE:20260308T020000
END:DAYLIGHT
END:VTIMEZONE
BEGIN:VEVENT
UID:d5ae13fc-8412-40d8-99aa-8e463f6c2bd0
DTSTAMP:20260422T072818Z
DESCRIPTION:
DTSTART;TZID=America/Chicago:20250318T180000
DTEND;TZID=America/Chicago:20250318T190000
LOCATION:https://secure.lglforms.com/form_engine/s/xBhYUB27HlaybC_dIz__YQ
SUMMARY:Down Syndrome Education Series (DSES)
END:VEVENT
END:VCALENDAR
