BEGIN:VCALENDAR
VERSION:2.0
PRODID:-//www.dsamidlands.org//NONSGML kigkonsult.se iCalcreator 2.30.10//
CALSCALE:GREGORIAN
METHOD:PUBLISH
UID:825e2475-1c7d-45d9-9c61-2f008d02278c
X-WR-CALDESC:
X-WR-RELCALID:50c36b16bf94d6bf0da959f840c85179
X-WR-TIMEZONE:America/Chicago
BEGIN:VTIMEZONE
TZID:America/Chicago
BEGIN:STANDARD
TZNAME:CST
DTSTART:20241103T020000
TZOFFSETFROM:-0500
TZOFFSETTO:-0600
RDATE:20251102T020000
END:STANDARD
BEGIN:DAYLIGHT
TZNAME:CDT
DTSTART:20250309T020000
TZOFFSETFROM:-0600
TZOFFSETTO:-0500
RDATE:20260308T020000
END:DAYLIGHT
END:VTIMEZONE
BEGIN:VEVENT
UID:50f240b8-9b6a-4d97-98aa-0c05162ca2e6
DTSTAMP:20260422T072015Z
DESCRIPTION:
DTSTART;TZID=America/Chicago:20250317T100000
DTEND;TZID=America/Chicago:20250317T160000
LOCATION:10824 Old Mill Road\, Suite 8\, Omaha\, AL 68154 US
SUMMARY:Rock Your Socks Pick Up
END:VEVENT
END:VCALENDAR
