BEGIN:VCALENDAR
VERSION:2.0
PRODID:-//www.dsamidlands.org//NONSGML kigkonsult.se iCalcreator 2.30.10//
CALSCALE:GREGORIAN
METHOD:PUBLISH
UID:10fe358e-d4d1-4c1b-a5ef-32dabdc6e1a5
X-WR-CALDESC:Join Music Therapist\, Emily R. Wadhams MT-BC at the DSA offic
 e for a 60-minute drumming experience for adults with Down syndrome. This 
 8-week session will meet Mondays from 2:30-3:30 and costs $160.00.
X-WR-RELCALID:cbf3d853ced2615f99ec734389191d26
X-WR-TIMEZONE:America/Chicago
BEGIN:VTIMEZONE
TZID:America/Chicago
BEGIN:STANDARD
TZNAME:CST
DTSTART:20241103T020000
TZOFFSETFROM:-0500
TZOFFSETTO:-0600
RDATE:20251102T020000
END:STANDARD
BEGIN:DAYLIGHT
TZNAME:CDT
DTSTART:20250309T020000
TZOFFSETFROM:-0600
TZOFFSETTO:-0500
RDATE:20260308T020000
END:DAYLIGHT
END:VTIMEZONE
BEGIN:VEVENT
UID:a26f1522-a428-4a25-8ab2-ba8a4a65e5b8
DTSTAMP:20260422T072003Z
DESCRIPTION:Join Music Therapist\, Emily R. Wadhams MT-BC at the DSA office
  for a 60-minute drumming experience for adults with Down syndrome. This 8
 -week session will meet Mondays from 2:30-3:30 and costs $160.00.
DTSTART;TZID=America/Chicago:20250317T143000
DTEND;TZID=America/Chicago:20250317T153000
LOCATION:https://secure.lglforms.com/form_engine/s/1QLs-0tt6mf-jdKlryyzTA
SUMMARY:Drumming for Wellness
END:VEVENT
END:VCALENDAR
