BEGIN:VCALENDAR
VERSION:2.0
PRODID:-//www.dsamidlands.org//NONSGML kigkonsult.se iCalcreator 2.30.10//
CALSCALE:GREGORIAN
METHOD:PUBLISH
UID:fd328681-771f-4996-b097-557df9b2dbd8
X-WR-CALDESC:DSA members pay $70 per session/$140 for non-members. Sessions
  are 7 classes.
X-WR-RELCALID:3beb84b1ef530e8f075b9f4759ed7611
X-WR-TIMEZONE:America/Chicago
BEGIN:VTIMEZONE
TZID:America/Chicago
BEGIN:STANDARD
TZNAME:CST
DTSTART:20241103T020000
TZOFFSETFROM:-0500
TZOFFSETTO:-0600
RDATE:20251102T020000
END:STANDARD
BEGIN:DAYLIGHT
TZNAME:CDT
DTSTART:20250309T020000
TZOFFSETFROM:-0600
TZOFFSETTO:-0500
RDATE:20260308T020000
END:DAYLIGHT
END:VTIMEZONE
BEGIN:VEVENT
UID:6eaf9e56-8da6-4244-a38d-8d71d3f614ce
DTSTAMP:20260422T072141Z
DESCRIPTION:DSA members pay $70 per session/$140 for non-members. Sessions 
 are 7 classes.
DTSTART;TZID=America/Chicago:20250315T130000
DTEND;TZID=America/Chicago:20250315T140000
LOCATION:https://secure.lglforms.com/form_engine/s/hMqV3FC5LrgS_kECFNCApA
SUMMARY:Improv (Ages 19 and over)
END:VEVENT
END:VCALENDAR
