BEGIN:VCALENDAR
VERSION:2.0
PRODID:-//www.dsamidlands.org//NONSGML kigkonsult.se iCalcreator 2.30.10//
CALSCALE:GREGORIAN
METHOD:PUBLISH
UID:3234231b-49b9-401a-8e0a-1526c4c5aefd
X-WR-CALDESC:DSA members pay $70 per session/$140 for non-members. Sessions
  are 7 classes.
X-WR-RELCALID:a825e0e2156ef23fca59729dbc497754
X-WR-TIMEZONE:America/Chicago
BEGIN:VTIMEZONE
TZID:America/Chicago
BEGIN:STANDARD
TZNAME:CST
DTSTART:20241103T020000
TZOFFSETFROM:-0500
TZOFFSETTO:-0600
RDATE:20251102T020000
END:STANDARD
BEGIN:DAYLIGHT
TZNAME:CDT
DTSTART:20250309T020000
TZOFFSETFROM:-0600
TZOFFSETTO:-0500
RDATE:20260308T020000
END:DAYLIGHT
END:VTIMEZONE
BEGIN:VEVENT
UID:8eb5e661-e0d0-4423-858d-80a8b2015a2a
DTSTAMP:20260422T072140Z
DESCRIPTION:DSA members pay $70 per session/$140 for non-members. Sessions 
 are 7 classes.
DTSTART;TZID=America/Chicago:20250315T120000
DTEND;TZID=America/Chicago:20250315T130000
LOCATION:https://secure.lglforms.com/form_engine/s/_d7wD4dGeNIyPTpnZsb_iw
SUMMARY:Improv (Ages 12-18)
END:VEVENT
END:VCALENDAR
