BEGIN:VCALENDAR
VERSION:2.0
PRODID:-//www.dsamidlands.org//NONSGML kigkonsult.se iCalcreator 2.30.10//
CALSCALE:GREGORIAN
METHOD:PUBLISH
UID:3834d064-ee04-4d56-bb98-2ad75617c568
X-WR-CALDESC:This club is free to DSA members who are teens and adults. Mee
 ting instructions will be shared ahead of the event in individual emails.
X-WR-RELCALID:753b0dc010711c25b3e733179e0a9c29
X-WR-TIMEZONE:America/Chicago
BEGIN:VTIMEZONE
TZID:America/Chicago
BEGIN:STANDARD
TZNAME:CST
DTSTART:20241103T020000
TZOFFSETFROM:-0500
TZOFFSETTO:-0600
RDATE:20251102T020000
END:STANDARD
BEGIN:DAYLIGHT
TZNAME:CDT
DTSTART:20250309T020000
TZOFFSETFROM:-0600
TZOFFSETTO:-0500
RDATE:20260308T020000
END:DAYLIGHT
END:VTIMEZONE
BEGIN:VEVENT
UID:0e239a4e-2243-4578-9da7-6fd5dcd3176f
DTSTAMP:20260422T072454Z
DESCRIPTION:This club is free to DSA members who are teens and adults. Meet
 ing instructions will be shared ahead of the event in individual emails.
DTSTART;TZID=America/Chicago:20250313T170000
DTEND;TZID=America/Chicago:20250313T180000
LOCATION:https://secure.lglforms.com/form_engine/s/LYWk_EmJG_EUza-95feLjw
SUMMARY:Walking/Running Club - Teens/Adults
END:VEVENT
END:VCALENDAR
