BEGIN:VCALENDAR
VERSION:2.0
PRODID:-//www.dsamidlands.org//NONSGML kigkonsult.se iCalcreator 2.30.10//
CALSCALE:GREGORIAN
METHOD:PUBLISH
UID:31bd0c72-5df6-4e4c-999c-e6a383774164
X-WR-CALDESC:Join Music Therapist\, Emily R. Wadhams MT-BC at the DSA offic
 e for a 60-minute drumming experience for adults with Down syndrome. This 
 8-week session will meet Mondays from 2:30-3:30 and costs $160.00.
X-WR-RELCALID:9aff7339dd791d90dfc3f18f00f0305a
X-WR-TIMEZONE:America/Chicago
BEGIN:VTIMEZONE
TZID:America/Chicago
BEGIN:STANDARD
TZNAME:CST
DTSTART:20241103T020000
TZOFFSETFROM:-0500
TZOFFSETTO:-0600
RDATE:20251102T020000
END:STANDARD
BEGIN:DAYLIGHT
TZNAME:CDT
DTSTART:20240310T020000
TZOFFSETFROM:-0600
TZOFFSETTO:-0500
RDATE:20250309T020000
RDATE:20260308T020000
END:DAYLIGHT
END:VTIMEZONE
BEGIN:VEVENT
UID:49b0fbc2-bf23-46b8-8180-0d00de1e6f81
DTSTAMP:20260422T071828Z
DESCRIPTION:Join Music Therapist\, Emily R. Wadhams MT-BC at the DSA office
  for a 60-minute drumming experience for adults with Down syndrome. This 8
 -week session will meet Mondays from 2:30-3:30 and costs $160.00.
DTSTART;TZID=America/Chicago:20250310T143000
DTEND;TZID=America/Chicago:20250310T153000
LOCATION:https://secure.lglforms.com/form_engine/s/1QLs-0tt6mf-jdKlryyzTA
SUMMARY:Drumming for Wellness
END:VEVENT
END:VCALENDAR
