BEGIN:VCALENDAR
VERSION:2.0
PRODID:-//www.dsamidlands.org//NONSGML kigkonsult.se iCalcreator 2.30.10//
CALSCALE:GREGORIAN
METHOD:PUBLISH
UID:91084303-bbc9-4a5d-a383-e274136c823b
X-WR-CALDESC:
X-WR-RELCALID:dcf22c317cd042c50f888aabcb019738
X-WR-TIMEZONE:America/Chicago
BEGIN:VTIMEZONE
TZID:America/Chicago
BEGIN:STANDARD
TZNAME:CST
DTSTART:20241103T020000
TZOFFSETFROM:-0500
TZOFFSETTO:-0600
RDATE:20251102T020000
END:STANDARD
BEGIN:DAYLIGHT
TZNAME:CDT
DTSTART:20240310T020000
TZOFFSETFROM:-0600
TZOFFSETTO:-0500
RDATE:20250309T020000
RDATE:20260308T020000
END:DAYLIGHT
END:VTIMEZONE
BEGIN:VEVENT
UID:7500b598-ccc4-4353-a0c8-7b630e1535b0
DTSTAMP:20260422T072455Z
DESCRIPTION:
DTSTART;TZID=America/Chicago:20250305T173000
DTEND;TZID=America/Chicago:20250305T190000
LOCATION:https://secure.lglforms.com/form_engine/s/6g4KrfiWnFl4NvYNZhSB0Q
SUMMARY:Kids Connect K-2 March - Cancelled due to weather
END:VEVENT
END:VCALENDAR
