BEGIN:VCALENDAR
VERSION:2.0
PRODID:-//www.dsamidlands.org//NONSGML kigkonsult.se iCalcreator 2.30.10//
CALSCALE:GREGORIAN
METHOD:PUBLISH
UID:d2fb1cb2-2ae3-499e-bcdd-4e0ba52e6fbf
X-WR-CALDESC:
X-WR-RELCALID:1e34505ce7e92cf5096d8c6d1ba6c930
X-WR-TIMEZONE:America/Chicago
BEGIN:VTIMEZONE
TZID:America/Chicago
BEGIN:STANDARD
TZNAME:CST
DTSTART:20241103T020000
TZOFFSETFROM:-0500
TZOFFSETTO:-0600
RDATE:20251102T020000
END:STANDARD
BEGIN:DAYLIGHT
TZNAME:CDT
DTSTART:20240310T020000
TZOFFSETFROM:-0600
TZOFFSETTO:-0500
RDATE:20250309T020000
RDATE:20260308T020000
END:DAYLIGHT
END:VTIMEZONE
BEGIN:VEVENT
UID:7db54011-e40e-438c-8144-4a164a4dfe9f
DTSTAMP:20260422T071828Z
DESCRIPTION:
DTSTART;TZID=America/Chicago:20250305T050000
DTEND;TZID=America/Chicago:20250305T050001
LOCATION:
SUMMARY:DSA Office Closed - Winter Weather
END:VEVENT
END:VCALENDAR
