BEGIN:VCALENDAR
VERSION:2.0
PRODID:-//www.dsamidlands.org//NONSGML kigkonsult.se iCalcreator 2.30.10//
CALSCALE:GREGORIAN
METHOD:PUBLISH
UID:122541fb-9cee-4a21-8c52-7dfae81b8536
X-WR-CALDESC:En Español Servicios de MMI y recursos en la comunidad para ma
 ntener a nuestros hijos incluidos y activos.
X-WR-RELCALID:7068d35c07548c072a0c47a796787a7f
X-WR-TIMEZONE:America/Chicago
BEGIN:VTIMEZONE
TZID:America/Chicago
BEGIN:STANDARD
TZNAME:CST
DTSTART:20241103T020000
TZOFFSETFROM:-0500
TZOFFSETTO:-0600
RDATE:20251102T020000
END:STANDARD
BEGIN:DAYLIGHT
TZNAME:CDT
DTSTART:20240310T020000
TZOFFSETFROM:-0600
TZOFFSETTO:-0500
RDATE:20250309T020000
RDATE:20260308T020000
END:DAYLIGHT
END:VTIMEZONE
BEGIN:VEVENT
UID:5867e3a9-d1ec-4fb4-9d71-b7e7e9261136
DTSTAMP:20260422T085322Z
DESCRIPTION:En Español Servicios de MMI y recursos en la comunidad para man
 tener a nuestros hijos incluidos y activos.
DTSTART;TZID=America/Chicago:20250227T183000
DTEND;TZID=America/Chicago:20250227T200000
LOCATION:https://secure.lglforms.com/form_engine/s/jM2ui91_NwjCWBZ8ewzC3g
SUMMARY:Escuela Para Familias Febrero 2025- Servicios de MMI y recursos en 
 la comunidad
END:VEVENT
END:VCALENDAR
