BEGIN:VCALENDAR
VERSION:2.0
PRODID:-//www.dsamidlands.org//NONSGML kigkonsult.se iCalcreator 2.30.10//
CALSCALE:GREGORIAN
METHOD:PUBLISH
UID:e0126592-fdcc-4df7-8ba4-e128df86efbd
X-WR-CALDESC:
X-WR-RELCALID:f3273219bb7a26f932e1fb084179735a
X-WR-TIMEZONE:America/Chicago
BEGIN:VTIMEZONE
TZID:America/Chicago
BEGIN:STANDARD
TZNAME:CST
DTSTART:20241103T020000
TZOFFSETFROM:-0500
TZOFFSETTO:-0600
RDATE:20251102T020000
END:STANDARD
BEGIN:DAYLIGHT
TZNAME:CDT
DTSTART:20240310T020000
TZOFFSETFROM:-0600
TZOFFSETTO:-0500
RDATE:20250309T020000
RDATE:20260308T020000
END:DAYLIGHT
END:VTIMEZONE
BEGIN:VEVENT
UID:9dd6d1d4-f56a-4b76-ab47-3e9c2ec6c6e7
DTSTAMP:20260422T084403Z
DESCRIPTION:
DTSTART;TZID=America/Chicago:20250219T050000
DTEND;TZID=America/Chicago:20250220T050001
LOCATION:
SUMMARY:DSA Office Closed - Winter Weather
END:VEVENT
END:VCALENDAR
