BEGIN:VCALENDAR
VERSION:2.0
PRODID:-//www.dsamidlands.org//NONSGML kigkonsult.se iCalcreator 2.30.10//
CALSCALE:GREGORIAN
METHOD:PUBLISH
UID:dcf65940-8b33-4a3b-ba28-7d47c9430dc6
X-WR-CALDESC:
X-WR-RELCALID:ca821e7059158381a0bd86d968b942b9
X-WR-TIMEZONE:America/Chicago
BEGIN:VTIMEZONE
TZID:America/Chicago
BEGIN:STANDARD
TZNAME:CST
DTSTART:20241103T020000
TZOFFSETFROM:-0500
TZOFFSETTO:-0600
RDATE:20251102T020000
END:STANDARD
BEGIN:DAYLIGHT
TZNAME:CDT
DTSTART:20240310T020000
TZOFFSETFROM:-0600
TZOFFSETTO:-0500
RDATE:20250309T020000
RDATE:20260308T020000
END:DAYLIGHT
END:VTIMEZONE
BEGIN:VEVENT
UID:280c75c2-f878-4c05-b28b-22a0236b52a5
DTSTAMP:20260422T084514Z
DESCRIPTION:
DTSTART;TZID=America/Chicago:20250218T050000
DTEND;TZID=America/Chicago:20250218T050001
LOCATION:
SUMMARY:DSA Office Closed - Winter Weather
END:VEVENT
END:VCALENDAR
