BEGIN:VCALENDAR
VERSION:2.0
PRODID:-//www.dsamidlands.org//NONSGML kigkonsult.se iCalcreator 2.30.10//
CALSCALE:GREGORIAN
METHOD:PUBLISH
UID:a2b04197-85ad-4360-9c8e-c2d5b83091e0
X-WR-CALDESC:
X-WR-RELCALID:6ce32e9ead76c11894c47351b9a6b9bf
X-WR-TIMEZONE:America/Chicago
BEGIN:VTIMEZONE
TZID:America/Chicago
BEGIN:STANDARD
TZNAME:CST
DTSTART:20241103T020000
TZOFFSETFROM:-0500
TZOFFSETTO:-0600
RDATE:20251102T020000
END:STANDARD
BEGIN:DAYLIGHT
TZNAME:CDT
DTSTART:20240310T020000
TZOFFSETFROM:-0600
TZOFFSETTO:-0500
RDATE:20250309T020000
RDATE:20260308T020000
END:DAYLIGHT
END:VTIMEZONE
BEGIN:VEVENT
UID:d98451e6-bccd-4257-a427-61cf10a3d4f2
DTSTAMP:20260422T085219Z
DESCRIPTION:
DTSTART;TZID=America/Chicago:20250218T180000
DTEND;TZID=America/Chicago:20250218T200000
LOCATION:https://secure.lglforms.com/form_engine/s/2U_sepgcAPTUwjPBmhNVTg
SUMMARY:Down Syndrome Education Series (DSES)on ZOOM only
END:VEVENT
END:VCALENDAR
