BEGIN:VCALENDAR
VERSION:2.0
PRODID:-//www.dsamidlands.org//NONSGML kigkonsult.se iCalcreator 2.30.10//
CALSCALE:GREGORIAN
METHOD:PUBLISH
UID:0057a05b-1b48-45de-962f-77700c939da7
X-WR-CALDESC:Join GRANDS for a fun evening of appetizers and drinks at the 
 DSA office. We will meet from 6:00-7:30. Can't wait to see you!
X-WR-RELCALID:75149f3c93771e8eb348c9e564c28c66
X-WR-TIMEZONE:America/Chicago
BEGIN:VTIMEZONE
TZID:America/Chicago
BEGIN:STANDARD
TZNAME:CST
DTSTART:20241103T020000
TZOFFSETFROM:-0500
TZOFFSETTO:-0600
RDATE:20251102T020000
END:STANDARD
BEGIN:DAYLIGHT
TZNAME:CDT
DTSTART:20240310T020000
TZOFFSETFROM:-0600
TZOFFSETTO:-0500
RDATE:20250309T020000
RDATE:20260308T020000
END:DAYLIGHT
END:VTIMEZONE
BEGIN:VEVENT
UID:4fcc5edc-18b1-4e51-8d48-a91a29e216fa
DTSTAMP:20260422T090225Z
DESCRIPTION:Join GRANDS for a fun evening of appetizers and drinks at the D
 SA office. We will meet from 6:00-7:30. Can't wait to see you!
DTSTART;TZID=America/Chicago:20250206T180000
DTEND;TZID=America/Chicago:20250206T193000
LOCATION:https://secure.lglforms.com/form_engine/s/rQJ_uPNgC3YqQ5npqaHEqA
SUMMARY:G.R.A.N.D.S
END:VEVENT
END:VCALENDAR
