BEGIN:VCALENDAR
VERSION:2.0
PRODID:-//www.dsamidlands.org//NONSGML kigkonsult.se iCalcreator 2.30.10//
CALSCALE:GREGORIAN
METHOD:PUBLISH
UID:e213f9b5-cc4b-4b48-884a-c9b23b555022
X-WR-CALDESC:A HandWriting Skills Lab for kids ages 5-10 or any student nee
 ding extra support with handwriting.  The camp will be run by Creighton OT
  students and their professors\, four consecutive Mondays starting Februar
 y 3rd.
X-WR-RELCALID:66cb80ce91dade5092c0b62f7962786a
X-WR-TIMEZONE:America/Chicago
BEGIN:VTIMEZONE
TZID:America/Chicago
BEGIN:STANDARD
TZNAME:CST
DTSTART:20241103T020000
TZOFFSETFROM:-0500
TZOFFSETTO:-0600
RDATE:20251102T020000
END:STANDARD
BEGIN:DAYLIGHT
TZNAME:CDT
DTSTART:20240310T020000
TZOFFSETFROM:-0600
TZOFFSETTO:-0500
RDATE:20250309T020000
RDATE:20260308T020000
END:DAYLIGHT
END:VTIMEZONE
BEGIN:VEVENT
UID:28dc3b3e-3d35-4a76-b3b2-8487176b0f8c
DTSTAMP:20260422T085400Z
DESCRIPTION:A HandWriting Skills Lab for kids ages 5-10 or any student need
 ing extra support with handwriting.  The camp will be run by Creighton OT 
 students and their professors\, four consecutive Mondays starting February
  3rd.
DTSTART;TZID=America/Chicago:20250203T163000
DTEND;TZID=America/Chicago:20250203T173000
LOCATION:https://secure.lglforms.com/form_engine/s/BEDXSvYC_llbPFGFyTSjuw
SUMMARY:Handwriting Skills Lab with Creighton OT Department
END:VEVENT
END:VCALENDAR
