BEGIN:VCALENDAR
VERSION:2.0
PRODID:-//www.dsamidlands.org//NONSGML kigkonsult.se iCalcreator 2.30.10//
CALSCALE:GREGORIAN
METHOD:PUBLISH
UID:f2efdf17-00c3-478c-9395-b2ea40b8dcf7
X-WR-CALDESC:Join Music Therapist\, Emily R. Wadhams MT-BC at the DSA offic
 e for a 60-minute drumming experience for adults with Down syndrome. This 
 8-week session will meet Mondays from 2:30-3:30 and costs $160.00.
X-WR-RELCALID:3f80381d4ca6cf8a94c840de3369b112
X-WR-TIMEZONE:America/Chicago
BEGIN:VTIMEZONE
TZID:America/Chicago
BEGIN:STANDARD
TZNAME:CST
DTSTART:20241103T020000
TZOFFSETFROM:-0500
TZOFFSETTO:-0600
RDATE:20251102T020000
END:STANDARD
BEGIN:DAYLIGHT
TZNAME:CDT
DTSTART:20240310T020000
TZOFFSETFROM:-0600
TZOFFSETTO:-0500
RDATE:20250309T020000
RDATE:20260308T020000
END:DAYLIGHT
END:VTIMEZONE
BEGIN:VEVENT
UID:4ceae752-8a45-4fd5-aba3-48587a17332d
DTSTAMP:20260422T084248Z
DESCRIPTION:Join Music Therapist\, Emily R. Wadhams MT-BC at the DSA office
  for a 60-minute drumming experience for adults with Down syndrome. This 8
 -week session will meet Mondays from 2:30-3:30 and costs $160.00.
DTSTART;TZID=America/Chicago:20250203T143000
DTEND;TZID=America/Chicago:20250203T153000
LOCATION:https://secure.lglforms.com/form_engine/s/1QLs-0tt6mf-jdKlryyzTA
SUMMARY:Drumming for Wellness
END:VEVENT
END:VCALENDAR
