BEGIN:VCALENDAR
VERSION:2.0
PRODID:-//www.dsamidlands.org//NONSGML kigkonsult.se iCalcreator 2.30.10//
CALSCALE:GREGORIAN
METHOD:PUBLISH
UID:e39de85e-b9d9-4a3f-886d-e3835b1ab75b
X-WR-CALDESC:DSA members pay $30 per session/$60 for non-members. Sessions 
 are 3 classes.
X-WR-RELCALID:b481c70ea6d2c7046b89541c88b41197
X-WR-TIMEZONE:America/Chicago
BEGIN:VTIMEZONE
TZID:America/Chicago
BEGIN:STANDARD
TZNAME:CST
DTSTART:20241103T020000
TZOFFSETFROM:-0500
TZOFFSETTO:-0600
RDATE:20251102T020000
END:STANDARD
BEGIN:DAYLIGHT
TZNAME:CDT
DTSTART:20240310T020000
TZOFFSETFROM:-0600
TZOFFSETTO:-0500
RDATE:20250309T020000
RDATE:20260308T020000
END:DAYLIGHT
END:VTIMEZONE
BEGIN:VEVENT
UID:0efa0bb7-f4f9-48a6-ad1f-b8e41bf08865
DTSTAMP:20260422T084544Z
DESCRIPTION:DSA members pay $30 per session/$60 for non-members. Sessions a
 re 3 classes.
DTSTART;TZID=America/Chicago:20250201T110000
DTEND;TZID=America/Chicago:20250201T120000
LOCATION:https://secure.lglforms.com/form_engine/s/f2KxxvToY64tWbq6RBvC6A
SUMMARY:P.A.N.S. (19 and over)
END:VEVENT
END:VCALENDAR
