BEGIN:VCALENDAR
VERSION:2.0
PRODID:-//www.dsamidlands.org//NONSGML kigkonsult.se iCalcreator 2.30.10//
CALSCALE:GREGORIAN
METHOD:PUBLISH
UID:f71e8b4a-dc86-4f34-8039-6ff4464944c0
X-WR-CALDESC:Join us for DSA Night at UNO Hockey!\n\nGame Details:\nUNO HOC
 KEY vs St. Cloud State\nSaturday\, January 25th\n7:07 PM\n\nThe PROMO CODE
  is: MIDLAND\n\nPlease put the promo code in before selecting seats to get
  $5 ticket price.
X-WR-RELCALID:d6e9a101f54b0ec5dea29db9707d25ff
X-WR-TIMEZONE:America/Chicago
BEGIN:VTIMEZONE
TZID:America/Chicago
BEGIN:STANDARD
TZNAME:CST
DTSTART:20241103T020000
TZOFFSETFROM:-0500
TZOFFSETTO:-0600
RDATE:20251102T020000
END:STANDARD
BEGIN:DAYLIGHT
TZNAME:CDT
DTSTART:20240310T020000
TZOFFSETFROM:-0600
TZOFFSETTO:-0500
RDATE:20250309T020000
RDATE:20260308T020000
END:DAYLIGHT
END:VTIMEZONE
BEGIN:VEVENT
UID:405825b8-f3c6-4d8f-9b42-22a87210db82
DTSTAMP:20260422T102757Z
DESCRIPTION:Join us for DSA Night at UNO Hockey!\n\nGame Details:\nUNO HOCK
 EY vs St. Cloud State\nSaturday\, January 25th\n7:07 PM\n\nThe PROMO CODE 
 is: MIDLAND\n\nPlease put the promo code in before selecting seats to get 
 $5 ticket price.
DTSTART;TZID=America/Chicago:20250125T190700
DTEND;TZID=America/Chicago:20250125T210700
LOCATION:https://am.ticketmaster.com/uno/buy/quickbuy?id=Mjc3NQ==
SUMMARY:UNO Hockey
END:VEVENT
END:VCALENDAR
