BEGIN:VCALENDAR
VERSION:2.0
PRODID:-//www.dsamidlands.org//NONSGML kigkonsult.se iCalcreator 2.30.10//
CALSCALE:GREGORIAN
METHOD:PUBLISH
UID:e5a82988-3477-4e5a-a3f9-684b24a25905
X-WR-CALDESC:Join other families with little ones ages birth through 3 year
 s of age for some play time and fun! In January we will be meeting at the 
 DSA office. \n10824 Old Mill Rd. Suite 8\nOmaha\, NE 68154
X-WR-RELCALID:0b6df9f5fc4e5397210536e027ee4a43
X-WR-TIMEZONE:America/Chicago
BEGIN:VTIMEZONE
TZID:America/Chicago
BEGIN:STANDARD
TZNAME:CST
DTSTART:20241103T020000
TZOFFSETFROM:-0500
TZOFFSETTO:-0600
RDATE:20251102T020000
END:STANDARD
BEGIN:DAYLIGHT
TZNAME:CDT
DTSTART:20240310T020000
TZOFFSETFROM:-0600
TZOFFSETTO:-0500
RDATE:20250309T020000
RDATE:20260308T020000
END:DAYLIGHT
END:VTIMEZONE
BEGIN:VEVENT
UID:4cd51e98-d736-4f84-ac68-1e588c7facdc
DTSTAMP:20260422T100317Z
DESCRIPTION:Join other families with little ones ages birth through 3 years
  of age for some play time and fun! In January we will be meeting at the D
 SA office. \n10824 Old Mill Rd. Suite 8\nOmaha\, NE 68154
DTSTART;TZID=America/Chicago:20250125T100000
DTEND;TZID=America/Chicago:20250125T110000
LOCATION:https://secure.lglforms.com/form_engine/s/pHvysy6VDhaLe9AqShQ3EA
SUMMARY:Little Ones Play Group
END:VEVENT
END:VCALENDAR
