BEGIN:VCALENDAR
VERSION:2.0
PRODID:-//www.dsamidlands.org//NONSGML kigkonsult.se iCalcreator 2.30.10//
CALSCALE:GREGORIAN
METHOD:PUBLISH
UID:dd40db54-c35d-4f77-aee2-9c447b8e2637
X-WR-CALDESC:
X-WR-RELCALID:e08a2bd570f66708c43f22ab5dc06eb5
X-WR-TIMEZONE:America/Chicago
BEGIN:VTIMEZONE
TZID:America/Chicago
BEGIN:STANDARD
TZNAME:CST
DTSTART:20241103T020000
TZOFFSETFROM:-0500
TZOFFSETTO:-0600
RDATE:20251102T020000
END:STANDARD
BEGIN:DAYLIGHT
TZNAME:CDT
DTSTART:20240310T020000
TZOFFSETFROM:-0600
TZOFFSETTO:-0500
RDATE:20250309T020000
RDATE:20260308T020000
END:DAYLIGHT
END:VTIMEZONE
BEGIN:VEVENT
UID:68194686-8007-409c-9355-d420c846d076
DTSTAMP:20260422T100540Z
DESCRIPTION:
DTSTART;TZID=America/Chicago:20250123T170000
DTEND;TZID=America/Chicago:20250123T180000
LOCATION:https://secure.lglforms.com/form_engine/s/NVsFV4J4T4KbdS9umRmvWw
SUMMARY:Circles (Ages 19 and over)
END:VEVENT
END:VCALENDAR
