BEGIN:VCALENDAR
VERSION:2.0
PRODID:-//www.dsamidlands.org//NONSGML kigkonsult.se iCalcreator 2.30.10//
CALSCALE:GREGORIAN
METHOD:PUBLISH
UID:231c489d-bcaa-4147-b4ab-e4583d627c0a
X-WR-CALDESC:
X-WR-RELCALID:0c4f7581b5aef6283b2bd2f09252106c
X-WR-TIMEZONE:America/Chicago
BEGIN:VTIMEZONE
TZID:America/Chicago
BEGIN:STANDARD
TZNAME:CST
DTSTART:20241103T020000
TZOFFSETFROM:-0500
TZOFFSETTO:-0600
RDATE:20251102T020000
END:STANDARD
BEGIN:DAYLIGHT
TZNAME:CDT
DTSTART:20240310T020000
TZOFFSETFROM:-0600
TZOFFSETTO:-0500
RDATE:20250309T020000
RDATE:20260308T020000
END:DAYLIGHT
END:VTIMEZONE
BEGIN:VEVENT
UID:ed8dcfaf-e932-4446-ac66-5cf63b4e168c
DTSTAMP:20260422T102742Z
DESCRIPTION:
DTSTART;TZID=America/Chicago:20250121T180000
DTEND;TZID=America/Chicago:20250121T200000
LOCATION:https://secure.lglforms.com/form_engine/s/tbWrSqz-HAsY1YIBnBDUHQ
SUMMARY:January Down Syndrome Education Series (DSES)
END:VEVENT
END:VCALENDAR
