BEGIN:VCALENDAR
VERSION:2.0
PRODID:-//www.dsamidlands.org//NONSGML kigkonsult.se iCalcreator 2.30.10//
CALSCALE:GREGORIAN
METHOD:PUBLISH
UID:5bd33610-2f8a-4165-a596-a3c4e450c4ed
X-WR-CALDESC:
X-WR-RELCALID:c860ff545a8e23fd7c2c771c96ed5fca
X-WR-TIMEZONE:America/Chicago
BEGIN:VTIMEZONE
TZID:America/Chicago
BEGIN:STANDARD
TZNAME:CST
DTSTART:20241103T020000
TZOFFSETFROM:-0500
TZOFFSETTO:-0600
RDATE:20251102T020000
END:STANDARD
BEGIN:DAYLIGHT
TZNAME:CDT
DTSTART:20240310T020000
TZOFFSETFROM:-0600
TZOFFSETTO:-0500
RDATE:20250309T020000
RDATE:20260308T020000
END:DAYLIGHT
END:VTIMEZONE
BEGIN:VEVENT
UID:dd33d31e-71e5-4789-82ce-26c8c7400145
DTSTAMP:20260422T100017Z
DESCRIPTION:
DTSTART;TZID=America/Chicago:20250120T050000
DTEND;TZID=America/Chicago:20250120T050001
LOCATION:
SUMMARY:DSA Office Closed MLK Day
END:VEVENT
END:VCALENDAR
