BEGIN:VCALENDAR
VERSION:2.0
PRODID:-//www.dsamidlands.org//NONSGML kigkonsult.se iCalcreator 2.30.10//
CALSCALE:GREGORIAN
METHOD:PUBLISH
UID:9124c85a-be27-4fb0-a13f-b1717a3e6ea8
X-WR-CALDESC:
X-WR-RELCALID:1a357d18728e1a182c583cbc5a144bdb
X-WR-TIMEZONE:America/Chicago
BEGIN:VTIMEZONE
TZID:America/Chicago
BEGIN:STANDARD
TZNAME:CST
DTSTART:20241103T020000
TZOFFSETFROM:-0500
TZOFFSETTO:-0600
RDATE:20251102T020000
END:STANDARD
BEGIN:DAYLIGHT
TZNAME:CDT
DTSTART:20240310T020000
TZOFFSETFROM:-0600
TZOFFSETTO:-0500
RDATE:20250309T020000
RDATE:20260308T020000
END:DAYLIGHT
END:VTIMEZONE
BEGIN:VEVENT
UID:aeff8620-fc55-4fd1-b22d-e8f75e0e8987
DTSTAMP:20260424T100649Z
DESCRIPTION:
DTSTART;TZID=America/Chicago:20250118T050000
DTEND;TZID=America/Chicago:20250118T050001
LOCATION:https://secure.lglforms.com/form_engine/s/hn96W-MUkfbhQ8h71G0ogw
SUMMARY:Siblings Connect
END:VEVENT
END:VCALENDAR
