BEGIN:VCALENDAR
VERSION:2.0
PRODID:-//www.dsamidlands.org//NONSGML kigkonsult.se iCalcreator 2.30.10//
CALSCALE:GREGORIAN
METHOD:PUBLISH
UID:71bfc233-7fed-4d9f-bd9c-73d789994a5b
X-WR-CALDESC:
X-WR-RELCALID:deae5eea4cb69e1fb4b56d7f6245f1a2
X-WR-TIMEZONE:America/Chicago
BEGIN:VTIMEZONE
TZID:America/Chicago
BEGIN:STANDARD
TZNAME:CST
DTSTART:20241103T020000
TZOFFSETFROM:-0500
TZOFFSETTO:-0600
RDATE:20251102T020000
END:STANDARD
BEGIN:DAYLIGHT
TZNAME:CDT
DTSTART:20240310T020000
TZOFFSETFROM:-0600
TZOFFSETTO:-0500
RDATE:20250309T020000
RDATE:20260308T020000
END:DAYLIGHT
END:VTIMEZONE
BEGIN:VEVENT
UID:8ef2ba16-7f3c-470f-85c4-29c072fc2e11
DTSTAMP:20260422T100302Z
DESCRIPTION:
DTSTART;TZID=America/Chicago:20250111T093000
DTEND;TZID=America/Chicago:20250111T110000
LOCATION:
SUMMARY:Moms Coffee Connections
END:VEVENT
END:VCALENDAR
