BEGIN:VCALENDAR
VERSION:2.0
PRODID:-//www.dsamidlands.org//NONSGML kigkonsult.se iCalcreator 2.30.10//
CALSCALE:GREGORIAN
METHOD:PUBLISH
UID:0d91f6f3-170a-48a5-8397-8abf90c9337b
X-WR-CALDESC:
X-WR-RELCALID:a211e94a1556133a8aef5ecb417b6f54
X-WR-TIMEZONE:America/Chicago
BEGIN:VTIMEZONE
TZID:America/Chicago
BEGIN:STANDARD
TZNAME:CST
DTSTART:20241103T020000
TZOFFSETFROM:-0500
TZOFFSETTO:-0600
RDATE:20251102T020000
END:STANDARD
BEGIN:DAYLIGHT
TZNAME:CDT
DTSTART:20240310T020000
TZOFFSETFROM:-0600
TZOFFSETTO:-0500
RDATE:20250309T020000
RDATE:20260308T020000
END:DAYLIGHT
END:VTIMEZONE
BEGIN:VEVENT
UID:d4fdd99d-7371-4758-8016-b9cdf57a1cdb
DTSTAMP:20260422T100316Z
DESCRIPTION:
DTSTART;TZID=America/Chicago:20250104T090000
DTEND;TZID=America/Chicago:20250104T100000
LOCATION:https://secure.lglforms.com/form_engine/s/h3pPTVzAqkMaYeMpqt1Hlg
SUMMARY:Breakfast Club- CANCELED
END:VEVENT
END:VCALENDAR
