BEGIN:VCALENDAR
VERSION:2.0
PRODID:-//www.dsamidlands.org//NONSGML kigkonsult.se iCalcreator 2.30.10//
CALSCALE:GREGORIAN
METHOD:PUBLISH
UID:df846125-aa23-42d2-8a52-9134d17dc65f
X-WR-CALDESC:
X-WR-RELCALID:5ce5da8bfced64b97ccbeabd7e86fcbb
X-WR-TIMEZONE:America/Chicago
BEGIN:VTIMEZONE
TZID:America/Chicago
BEGIN:STANDARD
TZNAME:CST
DTSTART:20241103T020000
TZOFFSETFROM:-0500
TZOFFSETTO:-0600
RDATE:20251102T020000
END:STANDARD
BEGIN:DAYLIGHT
TZNAME:CDT
DTSTART:20240310T020000
TZOFFSETFROM:-0600
TZOFFSETTO:-0500
RDATE:20250309T020000
RDATE:20260308T020000
END:DAYLIGHT
END:VTIMEZONE
BEGIN:VEVENT
UID:94585d44-dcc3-4c2a-afd5-3ab43b162af0
DTSTAMP:20260422T101149Z
DESCRIPTION:
DTSTART;TZID=America/Chicago:20241223T050000
DTEND;TZID=America/Chicago:20250103T050001
LOCATION:
SUMMARY:DSA Office Closed for Holiday Break
END:VEVENT
END:VCALENDAR
