BEGIN:VCALENDAR
VERSION:2.0
PRODID:-//www.dsamidlands.org//NONSGML kigkonsult.se iCalcreator 2.30.10//
CALSCALE:GREGORIAN
METHOD:PUBLISH
UID:f19d76fe-a8e7-4973-82de-5dcc68dd9aa4
X-WR-CALDESC:114th and Dodge
X-WR-RELCALID:eb23ace937d98f80b19d3d092c753de5
X-WR-TIMEZONE:America/Chicago
BEGIN:VTIMEZONE
TZID:America/Chicago
BEGIN:STANDARD
TZNAME:CST
DTSTART:20241103T020000
TZOFFSETFROM:-0500
TZOFFSETTO:-0600
RDATE:20251102T020000
END:STANDARD
BEGIN:DAYLIGHT
TZNAME:CDT
DTSTART:20240310T020000
TZOFFSETFROM:-0600
TZOFFSETTO:-0500
RDATE:20250309T020000
RDATE:20260308T020000
END:DAYLIGHT
END:VTIMEZONE
BEGIN:VEVENT
UID:6596d15b-7f3e-45e0-bb41-9d6cb4517c38
DTSTAMP:20260424T125748Z
DESCRIPTION:114th and Dodge
DTSTART;TZID=America/Chicago:20241128T183000
DTEND;TZID=America/Chicago:20241128T200000
LOCATION:DJ's Dugout
SUMMARY:D.A.D.S. Omaha Meeting
END:VEVENT
END:VCALENDAR
