BEGIN:VCALENDAR
VERSION:2.0
PRODID:-//www.dsamidlands.org//NONSGML kigkonsult.se iCalcreator 2.30.10//
CALSCALE:GREGORIAN
METHOD:PUBLISH
UID:85808f1d-6385-48fa-83fb-7093bbde83c5
X-WR-CALDESC:Classes are free for returning members.\n
X-WR-RELCALID:aaa73941c4b07b04b26fa02970b49b45
X-WR-TIMEZONE:America/Chicago
BEGIN:VTIMEZONE
TZID:America/Chicago
BEGIN:STANDARD
TZNAME:CST
DTSTART:20241103T020000
TZOFFSETFROM:-0500
TZOFFSETTO:-0600
RDATE:20251102T020000
END:STANDARD
BEGIN:DAYLIGHT
TZNAME:CDT
DTSTART:20240310T020000
TZOFFSETFROM:-0600
TZOFFSETTO:-0500
RDATE:20250309T020000
RDATE:20260308T020000
END:DAYLIGHT
END:VTIMEZONE
BEGIN:VEVENT
UID:8360dc08-142c-48c0-9398-fb9614a9c87c
DTSTAMP:20260424T130134Z
DESCRIPTION:Classes are free for returning members.\n
DTSTART;TZID=America/Chicago:20241121T170000
DTEND;TZID=America/Chicago:20241121T180000
LOCATION:https://secure.lglforms.com/form_engine/s/PubON3FveuNoB63rFHV3vQ
SUMMARY:Circles (ages 12-18)
END:VEVENT
END:VCALENDAR
