BEGIN:VCALENDAR
VERSION:2.0
PRODID:-//www.dsamidlands.org//NONSGML kigkonsult.se iCalcreator 2.30.10//
CALSCALE:GREGORIAN
METHOD:PUBLISH
UID:c476f5d9-6173-44c6-b578-7e54d41f9a6d
X-WR-CALDESC:Classes are free for returning members.\n
X-WR-RELCALID:e7ca34683c7a868434ea751bcd54cefd
X-WR-TIMEZONE:America/Chicago
BEGIN:VTIMEZONE
TZID:America/Chicago
BEGIN:STANDARD
TZNAME:CST
DTSTART:20241103T020000
TZOFFSETFROM:-0500
TZOFFSETTO:-0600
RDATE:20251102T020000
END:STANDARD
BEGIN:DAYLIGHT
TZNAME:CDT
DTSTART:20240310T020000
TZOFFSETFROM:-0600
TZOFFSETTO:-0500
RDATE:20250309T020000
RDATE:20260308T020000
END:DAYLIGHT
END:VTIMEZONE
BEGIN:VEVENT
UID:3338c26f-56b9-41fd-a79e-6b27867849f9
DTSTAMP:20260424T125551Z
DESCRIPTION:Classes are free for returning members.\n
DTSTART;TZID=America/Chicago:20241114T170000
DTEND;TZID=America/Chicago:20241114T180000
LOCATION:https://secure.lglforms.com/form_engine/s/PubON3FveuNoB63rFHV3vQ
SUMMARY:Circles (ages 12-18)
END:VEVENT
END:VCALENDAR
