BEGIN:VCALENDAR
VERSION:2.0
PRODID:-//www.dsamidlands.org//NONSGML kigkonsult.se iCalcreator 2.30.10//
CALSCALE:GREGORIAN
METHOD:PUBLISH
UID:3630ccca-733f-4c46-ac01-78c9d26283e3
X-WR-CALDESC:3rd-5th Grade Kids Connect at We Rock the Spectrum \n10717 Vir
 ginia Plaza #113\, Omaha\, NE 68128\n\n2nd Wednesday of the month Sept.-Ma
 y\n5:30 - 7pm\n\n$10 per member per Wed. *REGISTRATION/PAYMENT MUST BE MAD
 E BY THE MON. BEFORE THE EVENT AT NOON AND NO REFUNDS WILL BE GIVEN FOR CA
 NCELATION AFTER THAT TIME.\n\nIncludes cheese pizza. Please wear socks and
  bring a labeled water bottle.\n\nUp to 2 siblings may attend for a $10 fe
 e each.
X-WR-RELCALID:f94623bf08e59ff67e578ddcaa87d2f1
X-WR-TIMEZONE:America/Chicago
BEGIN:VTIMEZONE
TZID:America/Chicago
BEGIN:STANDARD
TZNAME:CST
DTSTART:20241103T020000
TZOFFSETFROM:-0500
TZOFFSETTO:-0600
RDATE:20251102T020000
END:STANDARD
BEGIN:DAYLIGHT
TZNAME:CDT
DTSTART:20240310T020000
TZOFFSETFROM:-0600
TZOFFSETTO:-0500
RDATE:20250309T020000
RDATE:20260308T020000
END:DAYLIGHT
END:VTIMEZONE
BEGIN:VEVENT
UID:b8e12395-5fd1-43c9-9e98-77394952ad01
DTSTAMP:20260424T130022Z
DESCRIPTION:3rd-5th Grade Kids Connect at We Rock the Spectrum \n10717 Virg
 inia Plaza #113\, Omaha\, NE 68128\n\n2nd Wednesday of the month Sept.-May
 \n5:30 - 7pm\n\n$10 per member per Wed. *REGISTRATION/PAYMENT MUST BE MADE
  BY THE MON. BEFORE THE EVENT AT NOON AND NO REFUNDS WILL BE GIVEN FOR CAN
 CELATION AFTER THAT TIME.\n\nIncludes cheese pizza. Please wear socks and 
 bring a labeled water bottle.\n\nUp to 2 siblings may attend for a $10 fee
  each.
DTSTART;TZID=America/Chicago:20241113T173000
DTEND;TZID=America/Chicago:20241113T190000
LOCATION:https://secure.lglforms.com/form_engine/s/TxDG4SAannMH4CHLlF1rpA
SUMMARY:Kids Connect (3rd-5th grade) We Rock the Spectrum
END:VEVENT
END:VCALENDAR
