BEGIN:VCALENDAR
VERSION:2.0
PRODID:-//www.dsamidlands.org//NONSGML kigkonsult.se iCalcreator 2.30.10//
CALSCALE:GREGORIAN
METHOD:PUBLISH
UID:0be59059-3727-447d-9fba-4aa0f6f76449
X-WR-CALDESC:5:30 - 7pm\n\n$10 per member per Wed. *REGISTRATION/PAYMENT MU
 ST BE MADE BY THE MON. BEFORE THE EVENT AT NOON AND NO REFUNDS WILL BE GIV
 EN FOR CANCELATION AFTER THAT TIME.\n\nIncludes cheese pizza. Please wear 
 socks and bring a labeled water bottle.\n\nUp to 2 siblings may attend for
  a $10 fee each.
X-WR-RELCALID:90a0b50027c101eb12dc746afef27936
X-WR-TIMEZONE:America/Chicago
BEGIN:VTIMEZONE
TZID:America/Chicago
BEGIN:STANDARD
TZNAME:CST
DTSTART:20241103T020000
TZOFFSETFROM:-0500
TZOFFSETTO:-0600
RDATE:20251102T020000
END:STANDARD
BEGIN:DAYLIGHT
TZNAME:CDT
DTSTART:20240310T020000
TZOFFSETFROM:-0600
TZOFFSETTO:-0500
RDATE:20250309T020000
RDATE:20260308T020000
END:DAYLIGHT
END:VTIMEZONE
BEGIN:VEVENT
UID:53a54f56-a831-45da-a795-35fca8f762b8
DTSTAMP:20260420T052543Z
DESCRIPTION:5:30 - 7pm\n\n$10 per member per Wed. *REGISTRATION/PAYMENT MUS
 T BE MADE BY THE MON. BEFORE THE EVENT AT NOON AND NO REFUNDS WILL BE GIVE
 N FOR CANCELATION AFTER THAT TIME.\n\nIncludes cheese pizza. Please wear s
 ocks and bring a labeled water bottle.\n\nUp to 2 siblings may attend for 
 a $10 fee each.
DTSTART;TZID=America/Chicago:20241106T173000
DTEND;TZID=America/Chicago:20241106T190000
LOCATION:https://secure.lglforms.com/form_engine/s/NYX5YzYgRMhxVXWOo5eFCA
SUMMARY:Kids Connect K - 2nd Grade - We Rock the Spectrum Gym
END:VEVENT
END:VCALENDAR
