BEGIN:VCALENDAR
VERSION:2.0
PRODID:-//www.dsamidlands.org//NONSGML kigkonsult.se iCalcreator 2.30.10//
CALSCALE:GREGORIAN
METHOD:PUBLISH
UID:6cc53e67-1532-4a59-9803-8d2976a63d26
X-WR-CALDESC:$60 per/$30 for DSA members per session.
X-WR-RELCALID:123576e738b2a6e49dc08dd9c1aa4f4d
X-WR-TIMEZONE:America/Chicago
BEGIN:VTIMEZONE
TZID:America/Chicago
BEGIN:STANDARD
TZNAME:CST
DTSTART:20231105T020000
TZOFFSETFROM:-0500
TZOFFSETTO:-0600
RDATE:20241103T020000
RDATE:20251102T020000
END:STANDARD
BEGIN:DAYLIGHT
TZNAME:CDT
DTSTART:20240310T020000
TZOFFSETFROM:-0600
TZOFFSETTO:-0500
RDATE:20250309T020000
RDATE:20260308T020000
END:DAYLIGHT
END:VTIMEZONE
BEGIN:VEVENT
UID:213dcf10-677c-4078-b121-25e9f66f9c10
DTSTAMP:20260424T130923Z
DESCRIPTION:$60 per/$30 for DSA members per session.
DTSTART;TZID=America/Chicago:20241102T113000
DTEND;TZID=America/Chicago:20241102T123000
LOCATION:https://secure.lglforms.com/form_engine/s/_2AF02lo0kdkxEaE-9AmqQ
SUMMARY:P.A.N.S.(ages 19 and up)
END:VEVENT
END:VCALENDAR
