BEGIN:VCALENDAR
VERSION:2.0
PRODID:-//www.dsamidlands.org//NONSGML kigkonsult.se iCalcreator 2.30.10//
CALSCALE:GREGORIAN
METHOD:PUBLISH
UID:4872a7bc-6bbc-4d9f-b771-c54f2ecd989c
X-WR-CALDESC:Cost is $30 for 3 classes (gloves not included). Please email 
 info@dsamidlands.org for financial assistance with program or glove cost\,
  if needed. \n\nAges 12-18 and 18 and over will be split into their age gr
 oups for these classes.\nThis session is 3-weeks.\n\nDown to Box provides 
 customized curriculum to individuals with Down syndrome in order to help d
 evelop their fine and gross motor skills to advance their physical and men
 tal health. Down to Box teaches participants techniques which increase the
 ir confidence levels while increasing their athletic ability. Our weekly b
 oxing programs also serve as a social group for participants\, to engage w
 ith their peers and develop friendships. \n\nTo get involved\, please emai
 l Amanda Clark\, Program Coordinator. clark@dsamidlands.org
X-WR-RELCALID:686ad664020212b25d9b2469f18f5f6c
X-WR-TIMEZONE:America/Chicago
BEGIN:VTIMEZONE
TZID:America/Chicago
BEGIN:STANDARD
TZNAME:CST
DTSTART:20231105T020000
TZOFFSETFROM:-0500
TZOFFSETTO:-0600
RDATE:20241103T020000
RDATE:20251102T020000
END:STANDARD
BEGIN:DAYLIGHT
TZNAME:CDT
DTSTART:20240310T020000
TZOFFSETFROM:-0600
TZOFFSETTO:-0500
RDATE:20250309T020000
END:DAYLIGHT
END:VTIMEZONE
BEGIN:VEVENT
UID:24b12ca3-e662-4bae-838d-28d1d188aa48
DTSTAMP:20260422T220954Z
DESCRIPTION:Cost is $30 for 3 classes (gloves not included). Please email i
 nfo@dsamidlands.org for financial assistance with program or glove cost\, 
 if needed. \n\nAges 12-18 and 18 and over will be split into their age gro
 ups for these classes.\nThis session is 3-weeks.\n\nDown to Box provides c
 ustomized curriculum to individuals with Down syndrome in order to help de
 velop their fine and gross motor skills to advance their physical and ment
 al health. Down to Box teaches participants techniques which increase thei
 r confidence levels while increasing their athletic ability. Our weekly bo
 xing programs also serve as a social group for participants\, to engage wi
 th their peers and develop friendships. \n\nTo get involved\, please email
  Amanda Clark\, Program Coordinator. clark@dsamidlands.org
DTSTART;TZID=America/Chicago:20240720T130000
DTEND;TZID=America/Chicago:20240720T140000
LOCATION:
SUMMARY:Down to Box
END:VEVENT
END:VCALENDAR
