BEGIN:VCALENDAR
VERSION:2.0
PRODID:-//www.dsamidlands.org//NONSGML kigkonsult.se iCalcreator 2.30.10//
CALSCALE:GREGORIAN
METHOD:PUBLISH
UID:8c80246e-c6da-4b21-9f7d-084502b00657
X-WR-CALDESC:Take part in our goal-setting night where you create a visuali
 zation of your goals. \nEnjoy drinks and snacks while you create your boar
 d.\n\n\nRegistration is limited to 20 people for our IN PERSON event to al
 low social distancing. Masks required when not eating or drinking. All sup
 plies will be provided.\n\nVirtual option offered via Zoom. No supplies wi
 ll be offered for our virtual attendees\n\n*Event only open to DSA MOMS me
 mbers\n\nThursday\, April 22nd 7:00pm-9:00pm\n10824 Old Mill Road Suite 8
 \nOmaha\, NE 68154\n\nor\nVirtual via Zoom\n\n<a href='https://secure.lglf
 orms.com/form_engine/s/ZwQiDJ7LSRSmM5wa7V5XGQ'>Register Now</a><br />
X-WR-RELCALID:e670e5617c0a4bd206490553ca44a73c
X-WR-TIMEZONE:America/Chicago
BEGIN:VTIMEZONE
TZID:America/Chicago
BEGIN:STANDARD
TZNAME:CST
DTSTART:20201101T020000
TZOFFSETFROM:-0500
TZOFFSETTO:-0600
RDATE:20211107T020000
END:STANDARD
BEGIN:DAYLIGHT
TZNAME:CDT
DTSTART:20210314T020000
TZOFFSETFROM:-0600
TZOFFSETTO:-0500
RDATE:20220313T020000
END:DAYLIGHT
END:VTIMEZONE
BEGIN:VEVENT
UID:a63ffb43-64e1-44ee-ae5c-8000424a58a7
DTSTAMP:20260425T115152Z
DESCRIPTION:Take part in our goal-setting night where you create a visualiz
 ation of your goals. \nEnjoy drinks and snacks while you create your board
 .\n\n\nRegistration is limited to 20 people for our IN PERSON event to all
 ow social distancing. Masks required when not eating or drinking. All supp
 lies will be provided.\n\nVirtual option offered via Zoom. No supplies wil
 l be offered for our virtual attendees\n\n*Event only open to DSA MOMS mem
 bers\n\nThursday\, April 22nd 7:00pm-9:00pm\n10824 Old Mill Road Suite 8\n
 Omaha\, NE 68154\n\nor\nVirtual via Zoom\n\n<a href='https://secure.lglfor
 ms.com/form_engine/s/ZwQiDJ7LSRSmM5wa7V5XGQ'>Register Now</a><br />
DTSTART;TZID=America/Chicago:20210422T190000
DTEND;TZID=America/Chicago:20210422T210000
LOCATION:https://secure.lglforms.com/form_engine/s/ZwQiDJ7LSRSmM5wa7V5XGQ?t
 =1617050280
SUMMARY:DSA MOMS Vision Board Night
END:VEVENT
END:VCALENDAR
