BEGIN:VCALENDAR
VERSION:2.0
PRODID:-//www.dsamidlands.org//NONSGML kigkonsult.se iCalcreator 2.30.10//
CALSCALE:GREGORIAN
METHOD:PUBLISH
UID:5e8a80f6-dad7-4daf-928a-2a774dcf2792
X-WR-CALDESC:DSA is proud to introduce Circles classes to members. Circles 
 has all new videos\, booklets\, and learning tools in 2020! The Circles Cu
 rriculum teaches boundaries and relationship-specific behaviors\, using a 
 simple multi-layer circle diagram. The Down Syndrome Alliance class series
  is open to people who have an intellectual disability. Ages 21 and up are
  welcome for this class series. Each class will focus on a different color
 ed circle so please plan for your student to attend all 3 classes in the s
 eries.
X-WR-RELCALID:d742e81f1c2eee896d80a2dcb54a6fd7
X-WR-TIMEZONE:America/Chicago
BEGIN:VTIMEZONE
TZID:America/Chicago
BEGIN:STANDARD
TZNAME:CST
DTSTART:20201101T020000
TZOFFSETFROM:-0500
TZOFFSETTO:-0600
RDATE:20211107T020000
END:STANDARD
BEGIN:DAYLIGHT
TZNAME:CDT
DTSTART:20200308T020000
TZOFFSETFROM:-0600
TZOFFSETTO:-0500
RDATE:20210314T020000
RDATE:20220313T020000
END:DAYLIGHT
END:VTIMEZONE
BEGIN:VEVENT
UID:8e3c4a0f-872b-467e-b063-ca0ec513897f
DTSTAMP:20260420T025645Z
DESCRIPTION:DSA is proud to introduce Circles classes to members. Circles h
 as all new videos\, booklets\, and learning tools in 2020! The Circles Cur
 riculum teaches boundaries and relationship-specific behaviors\, using a s
 imple multi-layer circle diagram. The Down Syndrome Alliance class series 
 is open to people who have an intellectual disability. Ages 21 and up are 
 welcome for this class series. Each class will focus on a different colore
 d circle so please plan for your student to attend all 3 classes in the se
 ries.
DTSTART;TZID=America/Chicago:20210111T170000
DTEND;TZID=America/Chicago:20210111T180000
LOCATION:Online
SUMMARY:Circles Ages 21 and over (online)
END:VEVENT
END:VCALENDAR
